BEGIN:VCALENDAR
VERSION:2.0
PRODID:-//VOX BONA - ECPv6.11.0//NONSGML v1.0//EN
CALSCALE:GREGORIAN
METHOD:PUBLISH
X-ORIGINAL-URL:https://vox-bona.de
X-WR-CALDESC:Veranstaltungen für VOX BONA
REFRESH-INTERVAL;VALUE=DURATION:PT1H
X-Robots-Tag:noindex
X-PUBLISHED-TTL:PT1H
BEGIN:VTIMEZONE
TZID:Europe/Paris
BEGIN:DAYLIGHT
TZOFFSETFROM:+0100
TZOFFSETTO:+0200
TZNAME:CEST
DTSTART:20240331T010000
END:DAYLIGHT
BEGIN:STANDARD
TZOFFSETFROM:+0200
TZOFFSETTO:+0100
TZNAME:CET
DTSTART:20241027T010000
END:STANDARD
END:VTIMEZONE
BEGIN:VEVENT
DTSTART;TZID=Europe/Paris:20240608T210000
DTEND;TZID=Europe/Paris:20240608T230000
DTSTAMP:20260420T154710
CREATED:20231017T202222Z
LAST-MODIFIED:20240117T101646Z
UID:695-1717880400-1717887600@vox-bona.de
SUMMARY:"Macht mir den Himmel auf!" Johannes-Passion - Musiktheater
DESCRIPTION:
URL:https://vox-bona.de/kalender/johannes-passion-musiktheater/
LOCATION:Kreuzkirche Bonn\, An der Evangelischen Kirche\, Bonn\, 53113\, Deutschland
CATEGORIES:Konzert - Kreuzkirche
END:VEVENT
BEGIN:VEVENT
DTSTART;TZID=Europe/Paris:20240609T170000
DTEND;TZID=Europe/Paris:20240609T190000
DTSTAMP:20260420T154710
CREATED:20231017T202442Z
LAST-MODIFIED:20240117T101454Z
UID:697-1717952400-1717959600@vox-bona.de
SUMMARY:"Macht mir den Himmel auf!" Johannes-Passion - Musiktheater
DESCRIPTION:
URL:https://vox-bona.de/kalender/johannes-passion-musiktheater-2/
LOCATION:Kreuzkirche Bonn\, An der Evangelischen Kirche\, Bonn\, 53113\, Deutschland
CATEGORIES:Konzert - Kreuzkirche
END:VEVENT
BEGIN:VEVENT
DTSTART;TZID=Europe/Paris:20240615T170000
DTEND;TZID=Europe/Paris:20240615T190000
DTSTAMP:20260420T154710
CREATED:20231017T203202Z
LAST-MODIFIED:20240111T100010Z
UID:699-1718470800-1718478000@vox-bona.de
SUMMARY:"Macht mir den Himmel auf!" Johannes-Passion - Musiktheater
DESCRIPTION:
URL:https://vox-bona.de/kalender/macht-mir-den-himmel-auf-johannes-passion-musiktheater/
LOCATION:Peterskirche Leipzig\, Schletterstr. 5\, Leipzig\, 04107\, Deutschland
CATEGORIES:Konzert - On Tour
END:VEVENT
BEGIN:VEVENT
DTSTART;TZID=Europe/Paris:20240615T210000
DTEND;TZID=Europe/Paris:20240615T230000
DTSTAMP:20260420T154710
CREATED:20240111T100422Z
LAST-MODIFIED:20240111T100422Z
UID:711-1718485200-1718492400@vox-bona.de
SUMMARY:"Macht mir den Himmel auf!" Johannes-Passion - Musiktheater
DESCRIPTION:
URL:https://vox-bona.de/kalender/macht-mir-den-himmel-auf-johannes-passion-musiktheater-2/
LOCATION:Peterskirche Leipzig\, Schletterstr. 5\, Leipzig\, 04107\, Deutschland
CATEGORIES:Konzert - On Tour
END:VEVENT
END:VCALENDAR